BEGIN:VCALENDAR
VERSION:2.0
PRODID:-//eventon.com NONSGML v1.0//EN
CALSCALE:GREGORIAN
METHOD:PUBLISH
BEGIN:VEVENT
UID:69e6015f491c0
DTSTAMP:20260420T103511Z
DTSTART:20260324T140000Z
DTEND:20260324T160000Z
LOCATION:Cité des Métiers Place du 8 mai 1945\,  62500 Saint-Omer
SUMMARY:Atelier Wilbi
DESCRIPTION:Atelier Wilbi\nhttps://lamipe-pso.fr/events/atelier-wilbi-2/var
 /ri-24.l-L1
URL:https://lamipe-pso.fr/events/atelier-wilbi-2/var/ri-24.l-L1
END:VEVENT
END:VCALENDAR