BEGIN:VCALENDAR
VERSION:2.0
PRODID:-//eventon.com NONSGML v1.0//EN
CALSCALE:GREGORIAN
METHOD:PUBLISH
BEGIN:VEVENT
UID:69e601a96153f
DTSTAMP:20260420T103625Z
DTSTART:20250708T090000Z
DTEND:20250708T110000Z
LOCATION:Communauté de Communes de la Région d&#039;Audruicq 66 Pl. du Général de Gaulle\,  62370 Audruicq
SUMMARY:Présentation de la Maison France Services | CCRA
DESCRIPTION:Présentation de la Maison France Services | CCRA\nhttps://lami
 pe-pso.fr/events/presentation-de-la-maison-france-services-ccra/
URL:https://lamipe-pso.fr/events/presentation-de-la-maison-france-services-ccra/
END:VEVENT
END:VCALENDAR