BEGIN:VCALENDAR
VERSION:2.0
PRODID:-//eventon.com NONSGML v1.0//EN
CALSCALE:GREGORIAN
METHOD:PUBLISH
BEGIN:VEVENT
UID:69e60165d2043
DTSTAMP:20260420T103517Z
DTSTART:20250722T100000Z
DTEND:20250722T113000Z
LOCATION:Cité des Métiers Place du 8 mai 1945\,  62500 Saint-Omer
SUMMARY:Découverte des métiers
DESCRIPTION:Découverte des métiers\nhttps://lamipe-pso.fr/events/decouver
 te-des-metiers-2/
URL:https://lamipe-pso.fr/events/decouverte-des-metiers-2/
END:VEVENT
END:VCALENDAR