BEGIN:VCALENDAR
VERSION:2.0
PRODID:-//eventon.com NONSGML v1.0//EN
CALSCALE:GREGORIAN
METHOD:PUBLISH
BEGIN:VEVENT
UID:69e5fea3985bb
DTSTAMP:20260420T102331Z
DTSTART:20250902T090000Z
DTEND:20250902T110000Z
LOCATION:Centre de formation Jean Bosco 19 place Foch 62340 Guînes
SUMMARY:Découverte des métiers du BTP
DESCRIPTION:Découverte des métiers du BTP\nhttps://lamipe-pso.fr/events/d
 ecouverte-des-metiers-du-btp/
URL:https://lamipe-pso.fr/events/decouverte-des-metiers-du-btp/
END:VEVENT
END:VCALENDAR