BEGIN:VCALENDAR
VERSION:2.0
PRODID:-//eventon.com NONSGML v1.0//EN
CALSCALE:GREGORIAN
METHOD:PUBLISH
BEGIN:VEVENT
UID:69e60166d9373
DTSTAMP:20260420T103518Z
DTSTART:20260106T110000Z
DTEND:20260106T130000Z
LOCATION:Point Information Jeunesse 32 Rue de Wissocq 62500 Saint-Omer
SUMMARY:Escape Game au Point Information Jeunesse
DESCRIPTION:Escape Game au Point Information Jeunesse\nhttps://lamipe-pso.f
 r/events/escape-game-au-point-dinformation-jeunesse/var/ri-4.l-L1
URL:https://lamipe-pso.fr/events/escape-game-au-point-dinformation-jeunesse/var/ri-4.l-L1
END:VEVENT
END:VCALENDAR