BEGIN:VCALENDAR
VERSION:2.0
PRODID:-//eventon.com NONSGML v1.0//EN
CALSCALE:GREGORIAN
METHOD:PUBLISH
BEGIN:VEVENT
UID:69e6037796a63
DTSTAMP:20260420T104407Z
DTSTART:20260303T110000Z
DTEND:20260303T130000Z
LOCATION:Point Information Jeunesse 32 Rue de Wissocq 62500 Saint-Omer
SUMMARY:Escape Game au Point Information Jeunesse
DESCRIPTION:Escape Game au Point Information Jeunesse\nhttps://lamipe-pso.f
 r/events/escape-game-au-point-dinformation-jeunesse/var/ri-5.l-L1
URL:https://lamipe-pso.fr/events/escape-game-au-point-dinformation-jeunesse/var/ri-5.l-L1
END:VEVENT
END:VCALENDAR