BEGIN:VCALENDAR
VERSION:2.0
PRODID:-//eventon.com NONSGML v1.0//EN
CALSCALE:GREGORIAN
METHOD:PUBLISH
BEGIN:VEVENT
UID:69e5ecdac8c3b
DTSTAMP:20260420T090738Z
DTSTART:20260609T110000Z
DTEND:20260609T130000Z
LOCATION:Point Information Jeunesse 32 Rue de Wissocq 62500 Saint-Omer
SUMMARY:Jeu des métiers porteurs au PIJ
DESCRIPTION:Jeu des métiers porteurs au PIJ\nhttps://lamipe-pso.fr/events/
 jeu-des-metiers-porteurs-au-pij/var/ri-4.l-L1
URL:https://lamipe-pso.fr/events/jeu-des-metiers-porteurs-au-pij/var/ri-4.l-L1
END:VEVENT
END:VCALENDAR