BEGIN:VCALENDAR
VERSION:2.0
PRODID:-//eventon.com NONSGML v1.0//EN
CALSCALE:GREGORIAN
METHOD:PUBLISH
BEGIN:VEVENT
UID:69e636c0eacdb
DTSTAMP:20260420T142256Z
DTSTART:20250930T050000Z
DTEND:20250930T140000Z
LOCATION:EPIDE 80 Chem. de Milly 80600 Doullens
SUMMARY:Visite de l'EPIDE
DESCRIPTION:Visite de l'EPIDE\nhttps://lamipe-pso.fr/events/visite-de-lepid
 e/
URL:https://lamipe-pso.fr/events/visite-de-lepide/
END:VEVENT
END:VCALENDAR