BEGIN:VCALENDAR
VERSION:2.0
PRODID:-//eventon.com NONSGML v1.0//EN
CALSCALE:GREGORIAN
METHOD:PUBLISH
BEGIN:VEVENT
UID:69e62d6f8b92d
DTSTAMP:20260420T134311Z
DTSTART:20251002T110000Z
DTEND:20251002T130000Z
LOCATION:Point Information Jeunesse 32 Rue de Wissocq 62500 Saint-Omer
SUMMARY:Je PIJ mon budget
DESCRIPTION:Je PIJ mon budget\nhttps://lamipe-pso.fr/events/je-pij-mon-budg
 et/
URL:https://lamipe-pso.fr/events/je-pij-mon-budget/
END:VEVENT
END:VCALENDAR