BEGIN:VCALENDAR
VERSION:2.0
PRODID:-//eventon.com NONSGML v1.0//EN
CALSCALE:GREGORIAN
METHOD:PUBLISH
BEGIN:VEVENT
UID:69e61778ddcdc
DTSTAMP:20260420T120928Z
DTSTART:20260423T110000Z
DTEND:20260423T130000Z
LOCATION:Point Information Jeunesse 32 Rue de Wissocq 62500 Saint-Omer
SUMMARY:Je PIJ mon budget
DESCRIPTION:Je PIJ mon budget\nhttps://lamipe-pso.fr/events/je-pij-mon-budg
 et/var/ri-4.l-L1
URL:https://lamipe-pso.fr/events/je-pij-mon-budget/var/ri-4.l-L1
END:VEVENT
END:VCALENDAR