BEGIN:VCALENDAR
VERSION:2.0
PRODID:-//eventon.com NONSGML v1.0//EN
CALSCALE:GREGORIAN
METHOD:PUBLISH
BEGIN:VEVENT
UID:69e619535357e
DTSTAMP:20260420T121723Z
DTSTART:20260116T070000Z
DTEND:20260116T090000Z
LOCATION:Point Information Jeunesse 32 Rue de Wissocq 62500 Saint-Omer
SUMMARY:Jeu des métiers porteurs au PIJ
DESCRIPTION:Jeu des métiers porteurs au PIJ\nhttps://lamipe-pso.fr/events/
 jeu-des-metiers-porteurs-au-pij-2/
URL:https://lamipe-pso.fr/events/jeu-des-metiers-porteurs-au-pij-2/
END:VEVENT
END:VCALENDAR