BEGIN:VCALENDAR
VERSION:2.0
PRODID:-//eventon.com NONSGML v1.0//EN
CALSCALE:GREGORIAN
METHOD:PUBLISH
BEGIN:VEVENT
UID:69e60377d4095
DTSTAMP:20260420T104407Z
DTSTART:20260413T070000Z
DTEND:20260413T090000Z
LOCATION:Point Information Jeunesse 32 Rue de Wissocq 62500 Saint-Omer
SUMMARY:Jeu des métiers porteurs au PIJ
DESCRIPTION:Jeu des métiers porteurs au PIJ\nhttps://lamipe-pso.fr/events/
 jeu-des-metiers-porteurs-au-pij-2/var/ri-3.l-L1
URL:https://lamipe-pso.fr/events/jeu-des-metiers-porteurs-au-pij-2/var/ri-3.l-L1
END:VEVENT
END:VCALENDAR