BEGIN:VCALENDAR
VERSION:2.0
PRODID:-//eventon.com NONSGML v1.0//EN
CALSCALE:GREGORIAN
METHOD:PUBLISH
BEGIN:VEVENT
UID:69e621114c9e4
DTSTAMP:20260420T125025Z
DTSTART:20260310T103000Z
DTEND:20260310T120000Z
LOCATION:CHRSO Rue de Blendecques\,  60357 Helfaut
SUMMARY:Découverte métiers de la petite enfance - Visite du service maternité CHRSO Helfaut
DESCRIPTION:Découverte métiers de la petite enfance - Visite du service m
 aternité CHRSO Helfaut\nhttps://lamipe-pso.fr/events/decouverte-metiers-de
 -la-petite-enfance-visite-du-service-maternite-chrso-helfaut/
URL:https://lamipe-pso.fr/events/decouverte-metiers-de-la-petite-enfance-visite-du-service-maternite-chrso-helfaut/
END:VEVENT
END:VCALENDAR