BEGIN:VCALENDAR
VERSION:2.0
PRODID:-//eventon.com NONSGML v1.0//EN
CALSCALE:GREGORIAN
METHOD:PUBLISH
BEGIN:VEVENT
UID:69e6015003518
DTSTAMP:20260420T103456Z
DTSTART:20260310T110000Z
DTEND:20260310T123000Z
LOCATION:Learning Pro - Arques 10 Square Marcel Pagnol\,  62510 Arques
SUMMARY:RIC préparatoire ADVF - Learning pro
DESCRIPTION:RIC préparatoire ADVF - Learning pro\nhttps://lamipe-pso.fr/ev
 ents/ric-preparatoire-advf-learning-pro/
URL:https://lamipe-pso.fr/events/ric-preparatoire-advf-learning-pro/
END:VEVENT
END:VCALENDAR