BEGIN:VCALENDAR
VERSION:2.0
PRODID:-//eventon.com NONSGML v1.0//EN
CALSCALE:GREGORIAN
METHOD:PUBLISH
BEGIN:VEVENT
UID:69e615b8687b3
DTSTAMP:20260420T120200Z
DTSTART:20260324T110000Z
DTEND:20260324T123000Z
LOCATION:Learning Pro - Arques 10 Square Marcel Pagnol\,  62510 Arques
SUMMARY:RIC préparatoire ADVF - Learning pro
DESCRIPTION:RIC préparatoire ADVF - Learning pro\nhttps://lamipe-pso.fr/ev
 ents/ric-preparatoire-advf-learning-pro/var/ri-1.l-L1
URL:https://lamipe-pso.fr/events/ric-preparatoire-advf-learning-pro/var/ri-1.l-L1
END:VEVENT
END:VCALENDAR