BEGIN:VCALENDAR
VERSION:2.0
PRODID:-//eventon.com NONSGML v1.0//EN
CALSCALE:GREGORIAN
METHOD:PUBLISH
BEGIN:VEVENT
UID:69e637aed2f76
DTSTAMP:20260420T142654Z
DTSTART:20260401T103000Z
DTEND:20260401T133000Z
LOCATION:GEIQ MI 36 Rte de Bierne\,  59380 Socx
SUMMARY:Le printemps de l'industrie GEIQ MI
DESCRIPTION:Le printemps de l'industrie GEIQ MI\nhttps://lamipe-pso.fr/even
 ts/le-printemps-de-lindustrie-geiq-mi/
URL:https://lamipe-pso.fr/events/le-printemps-de-lindustrie-geiq-mi/
END:VEVENT
END:VCALENDAR