BEGIN:VCALENDAR
VERSION:2.0
PRODID:-//eventon.com NONSGML v1.0//EN
CALSCALE:GREGORIAN
METHOD:PUBLISH
BEGIN:VEVENT
UID:69e601c42038c
DTSTAMP:20260420T103652Z
DTSTART:20260401T110000Z
DTEND:20260401T133000Z
LOCATION:IFSI Route de Blendecques BP 60357 HELFAUT - 62505 SAINT-OMER
SUMMARY:Présentations des formations aide soignant et infirmier avec l'IFSI
DESCRIPTION:Présentations des formations aide soignant et infirmier avec l
 'IFSI\nhttps://lamipe-pso.fr/events/presentations-des-formations-aide-soign
 ant-et-infirmier-avec-lifsi/
URL:https://lamipe-pso.fr/events/presentations-des-formations-aide-soignant-et-infirmier-avec-lifsi/
END:VEVENT
END:VCALENDAR