BEGIN:VCALENDAR
VERSION:2.0
PRODID:-//eventon.com NONSGML v1.0//EN
CALSCALE:GREGORIAN
METHOD:PUBLISH
BEGIN:VEVENT
UID:69e601c97163d
DTSTAMP:20260420T103657Z
DTSTART:20260401T110000Z
DTEND:20260401T133000Z
LOCATION:EESTS Saint-Omer 3 Av. de Rome\,  62500 Saint-Omer
SUMMARY:RIC DEAES EESTS
DESCRIPTION:RIC DEAES EESTS\nhttps://lamipe-pso.fr/events/ric-deaes-eests/
URL:https://lamipe-pso.fr/events/ric-deaes-eests/
END:VEVENT
END:VCALENDAR