BEGIN:VCALENDAR
VERSION:2.0
PRODID:-//eventon.com NONSGML v1.0//EN
CALSCALE:GREGORIAN
METHOD:PUBLISH
BEGIN:VEVENT
UID:69e601b855141
DTSTAMP:20260420T103640Z
DTSTART:20260402T070000Z
DTEND:20260402T093000Z
LOCATION:Horizon espaces verts Porte multimodale de l’Aa - 143 rue Lavoisier\,  62510 Arques
SUMMARY:Visite Horizon Espaces Verts
DESCRIPTION:Visite Horizon Espaces Verts\nhttps://lamipe-pso.fr/events/visi
 te-horizons-espaces-verts/
URL:https://lamipe-pso.fr/events/visite-horizons-espaces-verts/
END:VEVENT
END:VCALENDAR