BEGIN:VCALENDAR
VERSION:2.0
PRODID:-//eventon.com NONSGML v1.0//EN
CALSCALE:GREGORIAN
METHOD:PUBLISH
BEGIN:VEVENT
UID:69e629d536cdd
DTSTAMP:20260420T132749Z
DTSTART:20260414T114500Z
DTEND:20260414T140000Z
LOCATION:Point Information Jeunesse 32 Rue de Wissocq 62500 Saint-Omer
SUMMARY:Girl Power
DESCRIPTION:Girl Power\nhttps://lamipe-pso.fr/events/girl-power/
URL:https://lamipe-pso.fr/events/girl-power/
END:VEVENT
END:VCALENDAR