BEGIN:VCALENDAR
VERSION:2.0
PRODID:-//eventon.com NONSGML v1.0//EN
CALSCALE:GREGORIAN
METHOD:PUBLISH
BEGIN:VEVENT
UID:69e629a7774fa
DTSTAMP:20260420T132703Z
DTSTART:20260414T070000Z
DTEND:20260414T090000Z
LOCATION:Point Information Jeunesse 32 Rue de Wissocq 62500 Saint-Omer
SUMMARY:PIJ - Aventure Europe
DESCRIPTION:PIJ - Aventure Europe\nhttps://lamipe-pso.fr/events/pij-aventur
 e-europe/
URL:https://lamipe-pso.fr/events/pij-aventure-europe/
END:VEVENT
END:VCALENDAR