BEGIN:VCALENDAR
VERSION:2.0
PRODID:-//eventon.com NONSGML v1.0//EN
CALSCALE:GREGORIAN
METHOD:PUBLISH
BEGIN:VEVENT
UID:69e6188dc3f28
DTSTAMP:20260420T121405Z
DTSTART:20260428T070000Z
DTEND:20260428T090000Z
LOCATION:Point Information Jeunesse 32 Rue de Wissocq 62500 Saint-Omer
SUMMARY:PIJ - Aventure Europe
DESCRIPTION:PIJ - Aventure Europe\nhttps://lamipe-pso.fr/events/pij-aventur
 e-europe/var/ri-1.l-L1
URL:https://lamipe-pso.fr/events/pij-aventure-europe/var/ri-1.l-L1
END:VEVENT
END:VCALENDAR