BEGIN:VCALENDAR
VERSION:2.0
PRODID:-//eventon.com NONSGML v1.0//EN
CALSCALE:GREGORIAN
METHOD:PUBLISH
BEGIN:VEVENT
UID:69e62e671e8e2
DTSTAMP:20260420T134719Z
DTSTART:20260505T110000Z
DTEND:20260505T130000Z
LOCATION:Point Information Jeunesse 32 Rue de Wissocq 62500 Saint-Omer
SUMMARY:Atelier escape Game du Point Information Jeunesse
DESCRIPTION:Atelier escape Game du Point Information Jeunesse\nhttps://lami
 pe-pso.fr/events/atelier-escape-game-du-point-information-jeunesse/var/ri-1
 .l-L1
URL:https://lamipe-pso.fr/events/atelier-escape-game-du-point-information-jeunesse/var/ri-1.l-L1
END:VEVENT
END:VCALENDAR