BEGIN:VCALENDAR
VERSION:2.0
PRODID:-//eventon.com NONSGML v1.0//EN
CALSCALE:GREGORIAN
METHOD:PUBLISH
BEGIN:VEVENT
UID:69e601b85197d
DTSTAMP:20260420T103640Z
DTSTART:20260403T060000Z
DTEND:20260403T090000Z
LOCATION:Cité des Métiers Place du 8 mai 1945\,  62500 Saint-Omer
SUMMARY:Jobdating Auxiliaire de vie
DESCRIPTION:Jobdating Auxiliaire de vie\nhttps://lamipe-pso.fr/events/jobda
 ting-auxiliaire-de-vie/
URL:https://lamipe-pso.fr/events/jobdating-auxiliaire-de-vie/
END:VEVENT
END:VCALENDAR