BEGIN:VCALENDAR
VERSION:2.0
PRODID:-//eventon.com NONSGML v1.0//EN
CALSCALE:GREGORIAN
METHOD:PUBLISH
BEGIN:VEVENT
UID:69e5ec3af08ac
DTSTAMP:20260420T090458Z
DTSTART:20260409T110000Z
DTEND:20260409T140000Z
LOCATION:Salle Alfred André 4 Rue Aristide Briand 62510 Arques
SUMMARY:Forum Métiers de l'industrie
DESCRIPTION:Forum Métiers de l'industrie\nhttps://lamipe-pso.fr/events/for
 um-metiers-de-lindustrie/
URL:https://lamipe-pso.fr/events/forum-metiers-de-lindustrie/
END:VEVENT
END:VCALENDAR