BEGIN:VCALENDAR
VERSION:2.0
PRODID:-//eventon.com NONSGML v1.0//EN
CALSCALE:GREGORIAN
METHOD:PUBLISH
BEGIN:VEVENT
UID:69e6015f47a46
DTSTAMP:20260420T103511Z
DTSTART:20260413T070000Z
DTEND:20260413T090000Z
LOCATION:Cité des Métiers Place du 8 mai 1945\,  62500 Saint-Omer
SUMMARY:Atelier CV avec l'E2C et Laho
DESCRIPTION:Atelier CV avec l'E2C et Laho\nhttps://lamipe-pso.fr/events/ate
 lier-cv-avec-le2c/
URL:https://lamipe-pso.fr/events/atelier-cv-avec-le2c/
END:VEVENT
END:VCALENDAR