BEGIN:VCALENDAR
VERSION:2.0
PRODID:-//eventon.com NONSGML v1.0//EN
CALSCALE:GREGORIAN
METHOD:PUBLISH
BEGIN:VEVENT
UID:69e5fdaad378e
DTSTAMP:20260420T101922Z
DTSTART:20260414T110000Z
DTEND:20260414T130000Z
LOCATION:France Travail 21 rue Brueghel 62219 Longuenesse
SUMMARY:Découverte métiers de la logistique
DESCRIPTION:Découverte métiers de la logistique\nhttps://lamipe-pso.fr/ev
 ents/decouverte-metiers-de-la-logistique/
URL:https://lamipe-pso.fr/events/decouverte-metiers-de-la-logistique/
END:VEVENT
END:VCALENDAR