BEGIN:VCALENDAR
VERSION:2.0
PRODID:-//eventon.com NONSGML v1.0//EN
CALSCALE:GREGORIAN
METHOD:PUBLISH
BEGIN:VEVENT
UID:69e621d4b8eb4
DTSTAMP:20260420T125340Z
DTSTART:20260428T063000Z
DTEND:20260428T090000Z
LOCATION:Maison d&#039;enfants Le Regain 6 place de l'hôtel de ville 62380 Dohem
SUMMARY:Découverte métier éducateur au sein de la maison d'enfants de Dohem
DESCRIPTION:Découverte métier éducateur au sein de la maison d'enfants d
 e Dohem\nhttps://lamipe-pso.fr/events/decouverte-metier-educateur-au-sein-d
 e-la-maison-denfants-de-dohem/
URL:https://lamipe-pso.fr/events/decouverte-metier-educateur-au-sein-de-la-maison-denfants-de-dohem/
END:VEVENT
END:VCALENDAR