BEGIN:VCALENDAR
VERSION:2.0
PRODID:-//eventon.com NONSGML v1.0//EN
CALSCALE:GREGORIAN
METHOD:PUBLISH
BEGIN:VEVENT
UID:69e601c8c22ce
DTSTAMP:20260420T103656Z
DTSTART:20260429T060000Z
DTEND:20260429T110000Z
LOCATION:Kursaal 7 bis Pl. du Casino\,  59240 Dunkerque
SUMMARY:DK Job Industrie
DESCRIPTION:DK Job Industrie\nhttps://lamipe-pso.fr/events/dk-job-industrie
 /
URL:https://lamipe-pso.fr/events/dk-job-industrie/
END:VEVENT
END:VCALENDAR