BEGIN:VCALENDAR
VERSION:2.0
PRODID:-//eventon.com NONSGML v1.0//EN
CALSCALE:GREGORIAN
METHOD:PUBLISH
BEGIN:VEVENT
UID:69e601b938796
DTSTAMP:20260420T103641Z
DTSTART:20260429T110000Z
DTEND:20260429T130000Z
LOCATION:École Européenne en Travail Social 3 avenue de Rome 62500 Saint-Omer
SUMMARY:Découverte métiers Moniteur Educateur
DESCRIPTION:Découverte métiers Moniteur Educateur\nhttps://lamipe-pso.fr/
 events/decouverte-metiers-moniteur-educateur-7/
URL:https://lamipe-pso.fr/events/decouverte-metiers-moniteur-educateur-7/
END:VEVENT
END:VCALENDAR