BEGIN:VCALENDAR
VERSION:2.0
PRODID:-//eventon.com NONSGML v1.0//EN
CALSCALE:GREGORIAN
METHOD:PUBLISH
BEGIN:VEVENT
UID:69e6161145e59
DTSTAMP:20260420T120329Z
DTSTART:20260415T060000Z
DTEND:20260415T090000Z
LOCATION:Point Information Jeunesse 32 Rue de Wissocq 62500 Saint-Omer
SUMMARY:Rencontres artistiques au PIJ
DESCRIPTION:Rencontres artistiques au PIJ\nhttps://lamipe-pso.fr/events/ren
 contres-artistiques-au-pij/
URL:https://lamipe-pso.fr/events/rencontres-artistiques-au-pij/
END:VEVENT
END:VCALENDAR