BEGIN:VCALENDAR
VERSION:2.0
PRODID:-//eventon.com NONSGML v1.0//EN
CALSCALE:GREGORIAN
METHOD:PUBLISH
BEGIN:VEVENT
UID:69e6196797cba
DTSTAMP:20260420T121743Z
DTSTART:20260416T060000Z
DTEND:20260416T090000Z
LOCATION:Point Information Jeunesse 32 Rue de Wissocq 62500 Saint-Omer
SUMMARY:Rencontres artistiques au PIJ
DESCRIPTION:Rencontres artistiques au PIJ\nhttps://lamipe-pso.fr/events/ren
 contres-artistiques-au-pij/var/ri-1.l-L1
URL:https://lamipe-pso.fr/events/rencontres-artistiques-au-pij/var/ri-1.l-L1
END:VEVENT
END:VCALENDAR